BEGIN:VCALENDAR
VERSION:2.0
PRODID:-//Randolph Area Chamber of Commerce - ECPv6.15.20//NONSGML v1.0//EN
CALSCALE:GREGORIAN
METHOD:PUBLISH
X-ORIGINAL-URL:https://randolphchamber.org
X-WR-CALDESC:Events for Randolph Area Chamber of Commerce
REFRESH-INTERVAL;VALUE=DURATION:PT1H
X-Robots-Tag:noindex
X-PUBLISHED-TTL:PT1H
BEGIN:VTIMEZONE
TZID:America/New_York
BEGIN:DAYLIGHT
TZOFFSETFROM:-0500
TZOFFSETTO:-0400
TZNAME:EDT
DTSTART:20250309T070000
END:DAYLIGHT
BEGIN:STANDARD
TZOFFSETFROM:-0400
TZOFFSETTO:-0500
TZNAME:EST
DTSTART:20251102T060000
END:STANDARD
BEGIN:DAYLIGHT
TZOFFSETFROM:-0500
TZOFFSETTO:-0400
TZNAME:EDT
DTSTART:20260308T070000
END:DAYLIGHT
BEGIN:STANDARD
TZOFFSETFROM:-0400
TZOFFSETTO:-0500
TZNAME:EST
DTSTART:20261101T060000
END:STANDARD
BEGIN:DAYLIGHT
TZOFFSETFROM:-0500
TZOFFSETTO:-0400
TZNAME:EDT
DTSTART:20270314T070000
END:DAYLIGHT
BEGIN:STANDARD
TZOFFSETFROM:-0400
TZOFFSETTO:-0500
TZNAME:EST
DTSTART:20271107T060000
END:STANDARD
END:VTIMEZONE
BEGIN:VEVENT
DTSTART;TZID=America/New_York:20260427T163000
DTEND;TZID=America/New_York:20260427T173000
DTSTAMP:20260424T001727
CREATED:20260406T192819Z
LAST-MODIFIED:20260417T001050Z
UID:2008-1777307400-1777311000@randolphchamber.org
SUMMARY:The Richards Building Tour – Business After Hours Networking & Dinner
DESCRIPTION:Join the Dover Rotary Club and the Randolph Area Chamber of Commerce for great Networking and a wonderful tour of The Richard Building. The tour and networking are FREE and will be held on Monday\, April 27\, 2026 from 4:30pm to 5:30pm.  \nThe main entrance of The Richards Building is\n7 N. Sussex Street\, Dover\, NJ \nAfter the tour\, join the group for dinner at 5:30pm at Sabor Latino. The cost for dinner is $18. This is optional but we hope you’ll continue to network while enjoying fantastic food. \nSabor Latino is located at 44 N Morris Street in Dover\, a one-minute drive or a four-minute walk from The Richards Building. \nRegister by April 23rd for either the tour/networking or tour/networking AND dinner by getting your ticket below. \nCan’t wait to see you there!
URL:https://randolphchamber.org/event/richards-building-business-after-hours/
LOCATION:The Richards Building\, 1 W Blackwell Street\, Dover\, NJ\, 07801\, United States
CATEGORIES:After-Hours,Networking
END:VEVENT
END:VCALENDAR