BEGIN:VCALENDAR
VERSION:2.0
PRODID:-//Randolph Area Chamber of Commerce - ECPv6.15.20//NONSGML v1.0//EN
CALSCALE:GREGORIAN
METHOD:PUBLISH
X-ORIGINAL-URL:https://randolphchamber.org
X-WR-CALDESC:Events for Randolph Area Chamber of Commerce
REFRESH-INTERVAL;VALUE=DURATION:PT1H
X-Robots-Tag:noindex
X-PUBLISHED-TTL:PT1H
BEGIN:VTIMEZONE
TZID:America/New_York
BEGIN:DAYLIGHT
TZOFFSETFROM:-0500
TZOFFSETTO:-0400
TZNAME:EDT
DTSTART:20240310T070000
END:DAYLIGHT
BEGIN:STANDARD
TZOFFSETFROM:-0400
TZOFFSETTO:-0500
TZNAME:EST
DTSTART:20241103T060000
END:STANDARD
BEGIN:DAYLIGHT
TZOFFSETFROM:-0500
TZOFFSETTO:-0400
TZNAME:EDT
DTSTART:20250309T070000
END:DAYLIGHT
BEGIN:STANDARD
TZOFFSETFROM:-0400
TZOFFSETTO:-0500
TZNAME:EST
DTSTART:20251102T060000
END:STANDARD
BEGIN:DAYLIGHT
TZOFFSETFROM:-0500
TZOFFSETTO:-0400
TZNAME:EDT
DTSTART:20260308T070000
END:DAYLIGHT
BEGIN:STANDARD
TZOFFSETFROM:-0400
TZOFFSETTO:-0500
TZNAME:EST
DTSTART:20261101T060000
END:STANDARD
END:VTIMEZONE
BEGIN:VEVENT
DTSTART;TZID=America/New_York:20251120T114500
DTEND;TZID=America/New_York:20251120T133000
DTSTAMP:20260424T082544
CREATED:20250821T231755Z
LAST-MODIFIED:20251110T193219Z
UID:1563-1763639100-1763645400@randolphchamber.org
SUMMARY:November Meeting: Spotlight on Your Business
DESCRIPTION:Mark your calendar and join us for this month’s luncheon where everyone gets an opportunity to speak about their business. Bring handouts and plenty of business cards to pass around. \nOur lunchtime meeting is on Thursday\, November 20th\, 2025 at Mr. Crabby’s. \nGeneral networking starts at 11:45am with lunch beginning around 12 noon. \nDon’t forget! Bring your business cards and an appetite and we’ll see you there!
URL:https://randolphchamber.org/event/november-general-meeting/
LOCATION:Mr. Crabby’s\, 399 NJ-10 E\, Randolph\, NJ\, 07869\, United States
ORGANIZER;CN="Randolph Area Chamber of Commerce":MAILTO:info@randolphchamber.org
END:VEVENT
END:VCALENDAR