BEGIN:VCALENDAR
VERSION:2.0
PRODID:-//Randolph Area Chamber of Commerce - ECPv6.15.20//NONSGML v1.0//EN
CALSCALE:GREGORIAN
METHOD:PUBLISH
X-ORIGINAL-URL:https://randolphchamber.org
X-WR-CALDESC:Events for Randolph Area Chamber of Commerce
REFRESH-INTERVAL;VALUE=DURATION:PT1H
X-Robots-Tag:noindex
X-PUBLISHED-TTL:PT1H
BEGIN:VTIMEZONE
TZID:America/New_York
BEGIN:DAYLIGHT
TZOFFSETFROM:-0500
TZOFFSETTO:-0400
TZNAME:EDT
DTSTART:20240310T070000
END:DAYLIGHT
BEGIN:STANDARD
TZOFFSETFROM:-0400
TZOFFSETTO:-0500
TZNAME:EST
DTSTART:20241103T060000
END:STANDARD
BEGIN:DAYLIGHT
TZOFFSETFROM:-0500
TZOFFSETTO:-0400
TZNAME:EDT
DTSTART:20250309T070000
END:DAYLIGHT
BEGIN:STANDARD
TZOFFSETFROM:-0400
TZOFFSETTO:-0500
TZNAME:EST
DTSTART:20251102T060000
END:STANDARD
BEGIN:DAYLIGHT
TZOFFSETFROM:-0500
TZOFFSETTO:-0400
TZNAME:EDT
DTSTART:20260308T070000
END:DAYLIGHT
BEGIN:STANDARD
TZOFFSETFROM:-0400
TZOFFSETTO:-0500
TZNAME:EST
DTSTART:20261101T060000
END:STANDARD
END:VTIMEZONE
BEGIN:VEVENT
DTSTART;TZID=America/New_York:20250312T173000
DTEND;TZID=America/New_York:20250312T193000
DTSTAMP:20260424T204046
CREATED:20250122T163301Z
LAST-MODIFIED:20250122T202014Z
UID:1212-1741800600-1741807800@randolphchamber.org
SUMMARY:After Hours at the West Morris Area YMCA
DESCRIPTION:Join us for great open networking and lite fare at the West Morris YMCA. While there\, learn about the wonderful things that the YMCA offers individuals\, families\, and our community. \nMarch 12\, 2025 from 5:30pm to 7:30pm\nThe West Morris Area YMCA is located at 14 Dover Chester Rd.\, Randolph\, NJ 07869\nMembers: FREE. Non-members: $10
URL:https://randolphchamber.org/event/after-hours-at-the-west-morris-ymca/
LOCATION:West Morris YMCA\, 14 Dover Chester Rd\, Randolph\, NJ\, 07869\, United States
CATEGORIES:After-Hours,Networking
ATTACH;FMTTYPE=image/jpeg:https://randolphchamber.org/wp-content/uploads/2025/01/AfterHoursEvent_TeaserAdMAR25-450px.jpg
ORGANIZER;CN="Randolph Area Chamber of Commerce":MAILTO:info@randolphchamber.org
END:VEVENT
BEGIN:VEVENT
DTSTART;TZID=America/New_York:20250320T114500
DTEND;TZID=America/New_York:20250320T133000
DTSTAMP:20260424T204046
CREATED:20250122T160204Z
LAST-MODIFIED:20250305T015429Z
UID:1207-1742471100-1742477400@randolphchamber.org
SUMMARY:Monthly Networking General Meeting at Mr. Crabby’s
DESCRIPTION:The New Jersey Highlands Water Protection and Planning Council\, located at 100 North Road\, (Route 513) in Chester\, will speak about the Economic Sustainability Plan and their effort to expand business activity and promote various types of tourism.  Join us!  All are welcome! \nThe meeting will be held at Mr. Crabby’s at 399 Route 10 East in Randolph\, New Jersey. \nThursday\, March 20th @ 11:45am to 1:30om\n$25 members / $35 non-members \n 
URL:https://randolphchamber.org/event/economic-sustainability-plan-meeting/
LOCATION:NJ
CATEGORIES:Information Meeting
ATTACH;FMTTYPE=image/jpeg:https://randolphchamber.org/wp-content/uploads/2025/01/Highlands-Council-NJ-logo.jpg
ORGANIZER;CN="Randolph Area Chamber of Commerce":MAILTO:info@randolphchamber.org
END:VEVENT
END:VCALENDAR